BEGIN:VCALENDAR
VERSION:2.0
PRODID:-//Timmins & Area Women in Crisis - ECPv4.6.22//NONSGML v1.0//EN
CALSCALE:GREGORIAN
METHOD:PUBLISH
X-WR-CALNAME:Timmins & Area Women in Crisis
X-ORIGINAL-URL:https://www.tawc.ca
X-WR-CALDESC:Events for Timmins & Area Women in Crisis
BEGIN:VEVENT
DTSTART;TZID=UTC+0:20180920T183000
DTEND;TZID=UTC+0:20180920T203000
DTSTAMP:20260421T090354
CREATED:20170923T143957Z
LAST-MODIFIED:20180829T185646Z
UID:859-1537468200-1537475400@www.tawc.ca
SUMMARY:Take Back the Night – Cochrane
DESCRIPTION:\n\n	Related\n
URL:https://www.tawc.ca/event/take-back-night-cochrane/
CATEGORIES:Awareness,Event
END:VEVENT
END:VCALENDAR